View In:
ArcGIS JavaScript
ArcGIS Online Map Viewer
ArcGIS Earth
Service Description: Hydro-Enforced DEM from 2019 LiDAR
Hydrologic-enforcement enables hydrologic models to simulate flow under bridges and through culverts by modifying the elevations of artificial impediments.
This dataset was created by:
a) Using culvert breaklines with one-meter buffer to classify lidar points as breakline proximity.
b) Hydro-enforce the DEM using the culvert breaklines and re-classified points in proximity to the culvert.
c) Produce countywide DEM that represents cuts in the surface model where culverts exist.
Name: Elevation/DEM2019
Description: Hydro-Enforced DEM from 2019 LiDAR
Hydrologic-enforcement enables hydrologic models to simulate flow under bridges and through culverts by modifying the elevations of artificial impediments.
This dataset was created by:
a) Using culvert breaklines with one-meter buffer to classify lidar points as breakline proximity.
b) Hydro-enforce the DEM using the culvert breaklines and re-classified points in proximity to the culvert.
c) Produce countywide DEM that represents cuts in the surface model where culverts exist.
Single Fused Map Cache: false
Extent:
XMin: 99598.81
YMin: 100473.83000000002
XMax: 223872.81
YMax: 228697.83000000002
Spatial Reference: 7614
(7614)
VCSWkid(105703)
LatestVCSWkid(6360)
Initial Extent:
XMin: 99598.81
YMin: 100473.83000000002
XMax: 223872.81
YMax: 228697.83000000002
Spatial Reference: 7614
(7614)
VCSWkid(105703)
LatestVCSWkid(6360)
Full Extent:
XMin: 99598.81
YMin: 100473.83000000002
XMax: 223872.81
YMax: 228697.83000000002
Spatial Reference: 7614
(7614)
VCSWkid(105703)
LatestVCSWkid(6360)
Pixel Size X: 2.0
Pixel Size Y: 2.0
Band Count: 1
Pixel Type: F32
RasterFunction Infos: {"rasterFunctionInfos": [
{
"name": "DEM",
"description": "DEM",
"help": ""
},
{
"name": "None",
"description": "",
"help": ""
}
]}
Mensuration Capabilities: None
Inspection Capabilities:
Has Histograms: true
Has Colormap: false
Has Multi Dimensions : false
Rendering Rule:
Min Scale: 0
Max Scale: 0
Resampling: false
Copyright Text:
Service Data Type: esriImageServiceDataTypeGeneric
Min Values: 579.8576049804688
Max Values: 1303.431884765625
Mean Values: 848.4389453098444
Standard Deviation Values: 140.57675907518043
Object ID Field: OBJECTID
Fields:
-
OBJECTID
(
type: esriFieldTypeOID, alias: OBJECTID
)
-
Name
(
type: esriFieldTypeString, alias: Name, length: 200
)
-
MinPS
(
type: esriFieldTypeDouble, alias: MinPS
)
-
MaxPS
(
type: esriFieldTypeDouble, alias: MaxPS
)
-
LowPS
(
type: esriFieldTypeDouble, alias: LowPS
)
-
HighPS
(
type: esriFieldTypeDouble, alias: HighPS
)
-
Category
(
type: esriFieldTypeInteger, alias: Category
, Coded Values:
[0: Unknown]
, [1: Primary]
, [2: Overview]
, ...6 more...
)
-
Tag
(
type: esriFieldTypeString, alias: Tag, length: 100
)
-
GroupName
(
type: esriFieldTypeString, alias: GroupName, length: 100
)
-
ProductName
(
type: esriFieldTypeString, alias: ProductName, length: 100
)
-
CenterX
(
type: esriFieldTypeDouble, alias: CenterX
)
-
CenterY
(
type: esriFieldTypeDouble, alias: CenterY
)
-
ZOrder
(
type: esriFieldTypeInteger, alias: ZOrder
)
-
Shape
(
type: esriFieldTypeGeometry, alias: Shape
)
-
Shape.STArea()
(
type: esriFieldTypeDouble, alias: Shape.STArea()
)
-
Shape.STLength()
(
type: esriFieldTypeDouble, alias: Shape.STLength()
)
Default Mosaic Method: Northwest
Allowed Mosaic Methods: NorthWest,Center,LockRaster,ByAttribute,Nadir,Viewpoint,Seamline,None
SortField:
SortValue: null
Mosaic Operator: First
Default Compression Quality: 75
Default Resampling Method: Bilinear
Max Record Count: 1000
Max Image Height: 4100
Max Image Width: 15000
Max Download Image Count: 20
Max Mosaic Image Count: 20
Allow Raster Function: true
Allow Copy: false
Allow Analysis: false
Allow Compute TiePoints: false
Supports Statistics: true
Supports Advanced Queries: true
Use StandardizedQueries: true
Raster Type Infos:
Name: Raster Dataset
Description: Supports all ArcGIS Raster Datasets
Help:
Has Raster Attribute Table: false
Edit Fields Info: null
Ownership Based AccessControl For Rasters: null
Child Resources:
Info
Histograms
Statistics
Key Properties
Legend
Raster Function Infos
Supported Operations:
Export Image
Query
Identify
Compute Histograms
Compute Statistics Histograms
Get Samples
Compute Class Statistics
Query GPS Info
Find Images
Image to Map
Map to Image
Measure from Image
Image to Map Multiray
Query Boundary
Compute Pixel Location
Compute Angles
Validate
Project