Hydro-Enforced DEM from 2019 LiDAR<\/span><\/p>Hydrologic-enforcement enables hydrologic models to simulate flow under bridges and through culverts by modifying the elevations of artificial impediments.<\/span><\/p>This dataset was created by:<\/span><\/p>a) Using culvert breaklines with one-meter buffer to classify lidar points as breakline proximity.<\/span><\/p>b) Hydro-enforce the DEM using the culvert breaklines and re-classified points in proximity to the culvert.<\/span><\/p>c) Produce countywide DEM that represents cuts in the surface model where culverts exist.<\/span><\/p><\/p><\/div><\/div>",
"name": "Elevation/DEM2019",
"description": "
Hydro-Enforced DEM from 2019 LiDAR<\/span><\/p>Hydrologic-enforcement enables hydrologic models to simulate flow under bridges and through culverts by modifying the elevations of artificial impediments.<\/span><\/p>This dataset was created by:<\/span><\/p>a) Using culvert breaklines with one-meter buffer to classify lidar points as breakline proximity.<\/span><\/p>b) Hydro-enforce the DEM using the culvert breaklines and re-classified points in proximity to the culvert.<\/span><\/p>c) Produce countywide DEM that represents cuts in the surface model where culverts exist.<\/span><\/p><\/p><\/div><\/div>",
"extent": {
"xmin": 99598.81,
"ymin": 100473.83000000002,
"xmax": 223872.81,
"ymax": 228697.83000000002,
"spatialReference": {
"wkid": 7614,
"latestWkid": 7614,
"vcsWkid": 105703,
"latestVcsWkid": 6360
}
},
"initialExtent": {
"xmin": 99598.81,
"ymin": 100473.83000000002,
"xmax": 223872.81,
"ymax": 228697.83000000002,
"spatialReference": {
"wkid": 7614,
"latestWkid": 7614,
"vcsWkid": 105703,
"latestVcsWkid": 6360
}
},
"fullExtent": {
"xmin": 99598.81,
"ymin": 100473.83000000002,
"xmax": 223872.81,
"ymax": 228697.83000000002,
"spatialReference": {
"wkid": 7614,
"latestWkid": 7614,
"vcsWkid": 105703,
"latestVcsWkid": 6360
}
},
"sortableFields": "MinPS,MaxPS,LowPS,HighPS,CenterX,CenterY,ZOrder,Shape.STArea(),Shape.STLength()",
"heightModelInfo": {
"heightModel": "gravity_related_height",
"vertCRS": "NAVD88_height_(ftUS)",
"heightUnit": "us-foot"
},
"bandCount": 1,
"pixelType": "F32",
"minValues": [
579.8576049804688
],
"maxValues": [
1303.431884765625
],
"meanValues": [
848.4389453098444
],
"stdvValues": [
140.57675907518043
],
"serviceProperties": "NorthWest<\/MosaicMethod>First<\/MosaicOperator>true<\/SortAscending><\/LockImageID>Name<\/TileOrderField>0<\/TileOrderBase>600.000000<\/AvgImageSpacingX>300.000000<\/AvgImageSpacingY>0.0<\/ViewPointX>0.0<\/ViewPointY>0.0<\/ViewPointDefShiftX>0.0<\/ViewPointDefShiftY>None<\/CompressionMethod>75<\/CompressionQuality>0.010000<\/CompressionTolerance>Bilinear<\/SamplingMethod><\/ImageServiceProperties><\/ImageServer>",
"allowedFields": "Name,MinPS,MaxPS,LowPS,HighPS,Tag,GroupName,ProductName,CenterX,CenterY,ZOrder,Shape.STArea(),Shape.STLength()",
"hasMultidimensions": false,
"pixelSizeX": 2,
"pixelSizeY": 2,
"meanPixelSize": 0.6096012192024385,
"datasetFormat": "AMD",
"uncompressedSize": 15934909376,
"blockWidth": 2048,
"blockHeight": 256,
"compressionType": "None",
"bandNames": [
"Band_1"
],
"allowCopy": false,
"allowAnalysis": false,
"itemAccess": false,
"inspectionCapabilities": "",
"minPixelSize": 0,
"maxPixelSize": 0,
"copyrightText": "",
"serviceDataType": "esriImageServiceDataTypeGeneric",
"serviceSourceType": "esriImageServiceSourceTypeMosaicDataset",
"objectIdField": "OBJECTID",
"fields": [
{
"name": "OBJECTID",
"type": "esriFieldTypeOID",
"alias": "OBJECTID",
"domain": null
},
{
"name": "Name",
"type": "esriFieldTypeString",
"alias": "Name",
"domain": null,
"length": 200
},
{
"name": "MinPS",
"type": "esriFieldTypeDouble",
"alias": "MinPS",
"domain": null
},
{
"name": "MaxPS",
"type": "esriFieldTypeDouble",
"alias": "MaxPS",
"domain": null
},
{
"name": "LowPS",
"type": "esriFieldTypeDouble",
"alias": "LowPS",
"domain": null
},
{
"name": "HighPS",
"type": "esriFieldTypeDouble",
"alias": "HighPS",
"domain": null
},
{
"name": "Category",
"type": "esriFieldTypeInteger",
"alias": "Category",
"domain": {
"type": "codedValue",
"name": "MosaicCatalogItemCategoryDomain",
"description": "Catalog item categories.",
"codedValues": [
{
"name": "Unknown",
"code": 0
},
{
"name": "Primary",
"code": 1
},
{
"name": "Overview",
"code": 2
},
{
"name": "Unprocessed Overview",
"code": 3
},
{
"name": "Partial Overview",
"code": 4
},
{
"name": "Inactive",
"code": 5
},
{
"name": "Uploaded",
"code": 253
},
{
"name": "Incomplete",
"code": 254
},
{
"name": "Custom",
"code": 255
}
],
"mergePolicy": "esriMPTDefaultValue",
"splitPolicy": "esriSPTDefaultValue"
}
},
{
"name": "Tag",
"type": "esriFieldTypeString",
"alias": "Tag",
"domain": null,
"length": 100
},
{
"name": "GroupName",
"type": "esriFieldTypeString",
"alias": "GroupName",
"domain": null,
"length": 100
},
{
"name": "ProductName",
"type": "esriFieldTypeString",
"alias": "ProductName",
"domain": null,
"length": 100
},
{
"name": "CenterX",
"type": "esriFieldTypeDouble",
"alias": "CenterX",
"domain": null
},
{
"name": "CenterY",
"type": "esriFieldTypeDouble",
"alias": "CenterY",
"domain": null
},
{
"name": "ZOrder",
"type": "esriFieldTypeInteger",
"alias": "ZOrder",
"domain": null
},
{
"name": "Shape",
"type": "esriFieldTypeGeometry",
"alias": "Shape",
"domain": null
},
{
"name": "Shape.STArea()",
"type": "esriFieldTypeDouble",
"alias": "Shape.STArea()",
"domain": null
},
{
"name": "Shape.STLength()",
"type": "esriFieldTypeDouble",
"alias": "Shape.STLength()",
"domain": null
}
],
"capabilities": "Catalog,Image,Metadata",
"defaultMosaicMethod": "Northwest",
"allowedMosaicMethods": "NorthWest,Center,LockRaster,ByAttribute,Nadir,Viewpoint,Seamline,None",
"sortField": "",
"sortValue": null,
"sortAscending": true,
"mosaicOperator": "First",
"maxDownloadSizeLimit": 2048,
"defaultCompressionQuality": 75,
"defaultResamplingMethod": "Bilinear",
"maxImageHeight": 4100,
"maxImageWidth": 15000,
"maxRecordCount": 1000,
"maxDownloadImageCount": 20,
"maxMosaicImageCount": 20,
"allowRasterFunction": true,
"rasterFunctionInfos": [
{
"name": "DEM",
"description": "DEM",
"help": ""
},
{
"name": "None",
"description": "",
"help": ""
}
],
"rasterTypeInfos": [
{
"name": "Raster Dataset",
"description": "Supports all ArcGIS Raster Datasets",
"help": ""
}
],
"mensurationCapabilities": "None",
"hasHistograms": true,
"hasColormap": false,
"hasRasterAttributeTable": false,
"minScale": 0,
"maxScale": 0,
"exportTilesAllowed": false,
"supportsStatistics": true,
"supportsAdvancedQueries": true,
"editFieldsInfo": null,
"ownershipBasedAccessControlForRasters": null,
"allowComputeTiePoints": false,
"useStandardizedQueries": true,
"advancedQueryCapabilities": {
"useStandardizedQueries": true,
"supportsStatistics": true,
"supportsOrderBy": true,
"supportsDistinct": true,
"supportsPagination": true
},
"spatialReference": {
"wkid": 7614,
"latestWkid": 7614,
"vcsWkid": 105703,
"latestVcsWkid": 6360
},
"resampling": false
}