{ "currentVersion": 11.5, "serviceDescription": "

Imagery was collected as a mix of 6 inch and 3 inch resolutions, with 3 inch being collected around most of the urban areas. This dataset is a composite mosaic of both 3 inch and 6 inch areas.<\/span><\/p><\/div><\/div>", "name": "Imagery/Ortho2022IR", "description": "

Imagery was collected as a mix of 6 inch and 3 inch resolutions, with 3 inch being collected around most of the urban areas. This dataset is a composite mosaic of both 3 inch and 6 inch areas.<\/span><\/p><\/div><\/div>", "extent": { "xmin": 98500, "ymin": 100000, "xmax": 226000, "ymax": 230000, "spatialReference": { "wkt2": "COMPOUNDCRS[\"\",PROJCRS[\"WI_SHEBOYGAN_Transverse_Mercator\",BASEGEOGCRS[\"GCS_WI_SHEBOYGAN\",DATUM[\"D_WI_SHEBOYGAN\",ELLIPSOID[\"WI_County_Sheboygan\",6378285.48,298.264163429835,LENGTHUNIT[\"Meter\",1.0]]],PRIMEM[\"Greenwich\",0.0,ANGLEUNIT[\"Degree\",0.0174532925199433]],CS[ellipsoidal,2],ANGLEUNIT[\"Degree\",0.0174532925199433]],CONVERSION[\"Transverse_Mercator\",METHOD[\"Transverse_Mercator\"],PARAMETER[\"False_Easting\",261999.999949083,LENGTHUNIT[\"Foot_US\",0.3048006096012192]],PARAMETER[\"False_Northing\",0.0,LENGTHUNIT[\"Foot_US\",0.3048006096012192]],PARAMETER[\"Central_Meridian\",-87.55,ANGLEUNIT[\"Degree\",0.0174532925199433]],PARAMETER[\"Scale_Factor\",1.0,SCALEUNIT[\"Unity\",1.0]],PARAMETER[\"Latitude_Of_Origin\",43.2666666666998,ANGLEUNIT[\"Degree\",0.0174532925199433]]],CS[Cartesian,2],AXIS[\"Easting (X)\",east,ORDER[1]],AXIS[\"Northing (Y)\",north,ORDER[2]],LENGTHUNIT[\"Foot_US\",0.3048006096012192]],VERTCRS[\"NAVD88_height_(ftUS)\",VDATUM[\"North_American_Vertical_Datum_1988\"],CS[vertical,1],AXIS[\"Gravity-related height (H)\",up,LENGTHUNIT[\"Foot_US\",0.3048006096012192]]]]", "wkt": "PROJCS[\"WI_SHEBOYGAN_Transverse_Mercator\",GEOGCS[\"GCS_WI_SHEBOYGAN\",DATUM[\"D_WI_SHEBOYGAN\",SPHEROID[\"WI_County_Sheboygan\",6378285.48,298.264163429835]],PRIMEM[\"Greenwich\",0.0],UNIT[\"Degree\",0.0174532925199433]],PROJECTION[\"Transverse_Mercator\"],PARAMETER[\"False_Easting\",261999.999949083],PARAMETER[\"False_Northing\",0.0],PARAMETER[\"Central_Meridian\",-87.55],PARAMETER[\"Scale_Factor\",1.0],PARAMETER[\"Latitude_Of_Origin\",43.2666666666998],UNIT[\"Foot_US\",0.3048006096012192]],VERTCS[\"NAVD88_height_(ftUS)\",VDATUM[\"North_American_Vertical_Datum_1988\"],PARAMETER[\"Vertical_Shift\",0.0],PARAMETER[\"Direction\",1.0],UNIT[\"Foot_US\",0.3048006096012192]]" } }, "initialExtent": { "xmin": 98500, "ymin": 100000, "xmax": 226000, "ymax": 230000, "spatialReference": { "wkt2": "COMPOUNDCRS[\"\",PROJCRS[\"WI_SHEBOYGAN_Transverse_Mercator\",BASEGEOGCRS[\"GCS_WI_SHEBOYGAN\",DATUM[\"D_WI_SHEBOYGAN\",ELLIPSOID[\"WI_County_Sheboygan\",6378285.48,298.264163429835,LENGTHUNIT[\"Meter\",1.0]]],PRIMEM[\"Greenwich\",0.0,ANGLEUNIT[\"Degree\",0.0174532925199433]],CS[ellipsoidal,2],ANGLEUNIT[\"Degree\",0.0174532925199433]],CONVERSION[\"Transverse_Mercator\",METHOD[\"Transverse_Mercator\"],PARAMETER[\"False_Easting\",261999.999949083,LENGTHUNIT[\"Foot_US\",0.3048006096012192]],PARAMETER[\"False_Northing\",0.0,LENGTHUNIT[\"Foot_US\",0.3048006096012192]],PARAMETER[\"Central_Meridian\",-87.55,ANGLEUNIT[\"Degree\",0.0174532925199433]],PARAMETER[\"Scale_Factor\",1.0,SCALEUNIT[\"Unity\",1.0]],PARAMETER[\"Latitude_Of_Origin\",43.2666666666998,ANGLEUNIT[\"Degree\",0.0174532925199433]]],CS[Cartesian,2],AXIS[\"Easting (X)\",east,ORDER[1]],AXIS[\"Northing (Y)\",north,ORDER[2]],LENGTHUNIT[\"Foot_US\",0.3048006096012192]],VERTCRS[\"NAVD88_height_(ftUS)\",VDATUM[\"North_American_Vertical_Datum_1988\"],CS[vertical,1],AXIS[\"Gravity-related height (H)\",up,LENGTHUNIT[\"Foot_US\",0.3048006096012192]]]]", "wkt": "PROJCS[\"WI_SHEBOYGAN_Transverse_Mercator\",GEOGCS[\"GCS_WI_SHEBOYGAN\",DATUM[\"D_WI_SHEBOYGAN\",SPHEROID[\"WI_County_Sheboygan\",6378285.48,298.264163429835]],PRIMEM[\"Greenwich\",0.0],UNIT[\"Degree\",0.0174532925199433]],PROJECTION[\"Transverse_Mercator\"],PARAMETER[\"False_Easting\",261999.999949083],PARAMETER[\"False_Northing\",0.0],PARAMETER[\"Central_Meridian\",-87.55],PARAMETER[\"Scale_Factor\",1.0],PARAMETER[\"Latitude_Of_Origin\",43.2666666666998],UNIT[\"Foot_US\",0.3048006096012192]],VERTCS[\"NAVD88_height_(ftUS)\",VDATUM[\"North_American_Vertical_Datum_1988\"],PARAMETER[\"Vertical_Shift\",0.0],PARAMETER[\"Direction\",1.0],UNIT[\"Foot_US\",0.3048006096012192]]" } }, "fullExtent": { "xmin": 98500, "ymin": 100000, "xmax": 226000, "ymax": 230000, "spatialReference": { "wkt2": "COMPOUNDCRS[\"\",PROJCRS[\"WI_SHEBOYGAN_Transverse_Mercator\",BASEGEOGCRS[\"GCS_WI_SHEBOYGAN\",DATUM[\"D_WI_SHEBOYGAN\",ELLIPSOID[\"WI_County_Sheboygan\",6378285.48,298.264163429835,LENGTHUNIT[\"Meter\",1.0]]],PRIMEM[\"Greenwich\",0.0,ANGLEUNIT[\"Degree\",0.0174532925199433]],CS[ellipsoidal,2],ANGLEUNIT[\"Degree\",0.0174532925199433]],CONVERSION[\"Transverse_Mercator\",METHOD[\"Transverse_Mercator\"],PARAMETER[\"False_Easting\",261999.999949083,LENGTHUNIT[\"Foot_US\",0.3048006096012192]],PARAMETER[\"False_Northing\",0.0,LENGTHUNIT[\"Foot_US\",0.3048006096012192]],PARAMETER[\"Central_Meridian\",-87.55,ANGLEUNIT[\"Degree\",0.0174532925199433]],PARAMETER[\"Scale_Factor\",1.0,SCALEUNIT[\"Unity\",1.0]],PARAMETER[\"Latitude_Of_Origin\",43.2666666666998,ANGLEUNIT[\"Degree\",0.0174532925199433]]],CS[Cartesian,2],AXIS[\"Easting (X)\",east,ORDER[1]],AXIS[\"Northing (Y)\",north,ORDER[2]],LENGTHUNIT[\"Foot_US\",0.3048006096012192]],VERTCRS[\"NAVD88_height_(ftUS)\",VDATUM[\"North_American_Vertical_Datum_1988\"],CS[vertical,1],AXIS[\"Gravity-related height (H)\",up,LENGTHUNIT[\"Foot_US\",0.3048006096012192]]]]", "wkt": "PROJCS[\"WI_SHEBOYGAN_Transverse_Mercator\",GEOGCS[\"GCS_WI_SHEBOYGAN\",DATUM[\"D_WI_SHEBOYGAN\",SPHEROID[\"WI_County_Sheboygan\",6378285.48,298.264163429835]],PRIMEM[\"Greenwich\",0.0],UNIT[\"Degree\",0.0174532925199433]],PROJECTION[\"Transverse_Mercator\"],PARAMETER[\"False_Easting\",261999.999949083],PARAMETER[\"False_Northing\",0.0],PARAMETER[\"Central_Meridian\",-87.55],PARAMETER[\"Scale_Factor\",1.0],PARAMETER[\"Latitude_Of_Origin\",43.2666666666998],UNIT[\"Foot_US\",0.3048006096012192]],VERTCS[\"NAVD88_height_(ftUS)\",VDATUM[\"North_American_Vertical_Datum_1988\"],PARAMETER[\"Vertical_Shift\",0.0],PARAMETER[\"Direction\",1.0],UNIT[\"Foot_US\",0.3048006096012192]]" } }, "sortableFields": "MinPS,MaxPS,LowPS,HighPS,CenterX,CenterY,ZOrder,Shape.STArea(),Shape.STLength()", "heightModelInfo": { "heightModel": "gravity_related_height", "vertCRS": "NAVD88_height_(ftUS)", "heightUnit": "us-foot" }, "bandCount": 4, "pixelType": "U8", "minValues": [], "maxValues": [], "meanValues": [], "stdvValues": [], "serviceProperties": "NorthWest<\/MosaicMethod>First<\/MosaicOperator>true<\/SortAscending><\/LockImageID>Name<\/TileOrderField>0<\/TileOrderBase>600.000000<\/AvgImageSpacingX>300.000000<\/AvgImageSpacingY>0.0<\/ViewPointX>0.0<\/ViewPointY>0.0<\/ViewPointDefShiftX>0.0<\/ViewPointDefShiftY>None<\/CompressionMethod>75<\/CompressionQuality>0.010000<\/CompressionTolerance>Bilinear<\/SamplingMethod><\/ImageServiceProperties><\/ImageServer>", "allowedFields": "Name,MinPS,MaxPS,LowPS,HighPS,Tag,GroupName,ProductName,CenterX,CenterY,ZOrder,Shape.STArea(),Shape.STLength()", "hasMultidimensions": false, "pixelSizeX": 0.25, "pixelSizeY": 0.25, "meanPixelSize": 0.07620015240030481, "datasetFormat": "AMD", "uncompressedSize": 1060800000000, "blockWidth": 2048, "blockHeight": 256, "compressionType": "None", "bandNames": [ "Red", "Green", "Blue", "Infrared" ], "allowCopy": false, "allowAnalysis": false, "itemAccess": false, "inspectionCapabilities": "", "minPixelSize": 0, "maxPixelSize": 0, "copyrightText": "", "serviceDataType": "esriImageServiceDataTypeProcessed", "serviceSourceType": "esriImageServiceSourceTypeMosaicDataset", "objectIdField": "OBJECTID", "fields": [ { "name": "OBJECTID", "type": "esriFieldTypeOID", "alias": "OBJECTID", "domain": null }, { "name": "Name", "type": "esriFieldTypeString", "alias": "Name", "domain": null, "length": 200 }, { "name": "MinPS", "type": "esriFieldTypeDouble", "alias": "MinPS", "domain": null }, { "name": "MaxPS", "type": "esriFieldTypeDouble", "alias": "MaxPS", "domain": null }, { "name": "LowPS", "type": "esriFieldTypeDouble", "alias": "LowPS", "domain": null }, { "name": "HighPS", "type": "esriFieldTypeDouble", "alias": "HighPS", "domain": null }, { "name": "Category", "type": "esriFieldTypeInteger", "alias": "Category", "domain": { "type": "codedValue", "name": "MosaicCatalogItemCategoryDomain", "description": "Catalog item categories.", "codedValues": [ { "name": "Unknown", "code": 0 }, { "name": "Primary", "code": 1 }, { "name": "Overview", "code": 2 }, { "name": "Unprocessed Overview", "code": 3 }, { "name": "Partial Overview", "code": 4 }, { "name": "Inactive", "code": 5 }, { "name": "Uploaded", "code": 253 }, { "name": "Incomplete", "code": 254 }, { "name": "Custom", "code": 255 } ], "mergePolicy": "esriMPTDefaultValue", "splitPolicy": "esriSPTDefaultValue" } }, { "name": "Tag", "type": "esriFieldTypeString", "alias": "Tag", "domain": null, "length": 100 }, { "name": "GroupName", "type": "esriFieldTypeString", "alias": "GroupName", "domain": null, "length": 100 }, { "name": "ProductName", "type": "esriFieldTypeString", "alias": "ProductName", "domain": null, "length": 100 }, { "name": "CenterX", "type": "esriFieldTypeDouble", "alias": "CenterX", "domain": null }, { "name": "CenterY", "type": "esriFieldTypeDouble", "alias": "CenterY", "domain": null }, { "name": "ZOrder", "type": "esriFieldTypeInteger", "alias": "ZOrder", "domain": null }, { "name": "Shape", "type": "esriFieldTypeGeometry", "alias": "Shape", "domain": null }, { "name": "Shape.STArea()", "type": "esriFieldTypeDouble", "alias": "Shape.STArea()", "domain": null }, { "name": "Shape.STLength()", "type": "esriFieldTypeDouble", "alias": "Shape.STLength()", "domain": null } ], "capabilities": "Mensuration,Image", "defaultMosaicMethod": "Northwest", "allowedMosaicMethods": "NorthWest,Center,LockRaster,ByAttribute,Nadir,Viewpoint,Seamline,None", "sortField": "", "sortValue": null, "sortAscending": true, "mosaicOperator": "First", "maxDownloadSizeLimit": 2048, "defaultCompressionQuality": 75, "defaultResamplingMethod": "Bilinear", "maxImageHeight": 4100, "maxImageWidth": 15000, "maxRecordCount": 1000, "maxDownloadImageCount": 20, "maxMosaicImageCount": 20, "allowRasterFunction": true, "rasterFunctionInfos": [ { "name": "Ortho22IR", "description": "IR for 2022 ortho", "help": "" }, { "name": "None", "description": "", "help": "" } ], "rasterTypeInfos": [ { "name": "Raster Dataset", "description": "Supports all ArcGIS Raster Datasets", "help": "" } ], "mensurationCapabilities": "Basic", "hasHistograms": false, "hasColormap": false, "hasRasterAttributeTable": false, "minScale": 0, "maxScale": 0, "exportTilesAllowed": false, "supportsStatistics": true, "supportsAdvancedQueries": true, "editFieldsInfo": null, "ownershipBasedAccessControlForRasters": null, "allowComputeTiePoints": false, "useStandardizedQueries": true, "advancedQueryCapabilities": { "useStandardizedQueries": true, "supportsStatistics": true, "supportsOrderBy": true, "supportsDistinct": true, "supportsPagination": true }, "spatialReference": { "wkt2": "COMPOUNDCRS[\"\",PROJCRS[\"WI_SHEBOYGAN_Transverse_Mercator\",BASEGEOGCRS[\"GCS_WI_SHEBOYGAN\",DATUM[\"D_WI_SHEBOYGAN\",ELLIPSOID[\"WI_County_Sheboygan\",6378285.48,298.264163429835,LENGTHUNIT[\"Meter\",1.0]]],PRIMEM[\"Greenwich\",0.0,ANGLEUNIT[\"Degree\",0.0174532925199433]],CS[ellipsoidal,2],ANGLEUNIT[\"Degree\",0.0174532925199433]],CONVERSION[\"Transverse_Mercator\",METHOD[\"Transverse_Mercator\"],PARAMETER[\"False_Easting\",261999.999949083,LENGTHUNIT[\"Foot_US\",0.3048006096012192]],PARAMETER[\"False_Northing\",0.0,LENGTHUNIT[\"Foot_US\",0.3048006096012192]],PARAMETER[\"Central_Meridian\",-87.55,ANGLEUNIT[\"Degree\",0.0174532925199433]],PARAMETER[\"Scale_Factor\",1.0,SCALEUNIT[\"Unity\",1.0]],PARAMETER[\"Latitude_Of_Origin\",43.2666666666998,ANGLEUNIT[\"Degree\",0.0174532925199433]]],CS[Cartesian,2],AXIS[\"Easting (X)\",east,ORDER[1]],AXIS[\"Northing (Y)\",north,ORDER[2]],LENGTHUNIT[\"Foot_US\",0.3048006096012192]],VERTCRS[\"NAVD88_height_(ftUS)\",VDATUM[\"North_American_Vertical_Datum_1988\"],CS[vertical,1],AXIS[\"Gravity-related height (H)\",up,LENGTHUNIT[\"Foot_US\",0.3048006096012192]]]]", "wkt": "PROJCS[\"WI_SHEBOYGAN_Transverse_Mercator\",GEOGCS[\"GCS_WI_SHEBOYGAN\",DATUM[\"D_WI_SHEBOYGAN\",SPHEROID[\"WI_County_Sheboygan\",6378285.48,298.264163429835]],PRIMEM[\"Greenwich\",0.0],UNIT[\"Degree\",0.0174532925199433]],PROJECTION[\"Transverse_Mercator\"],PARAMETER[\"False_Easting\",261999.999949083],PARAMETER[\"False_Northing\",0.0],PARAMETER[\"Central_Meridian\",-87.55],PARAMETER[\"Scale_Factor\",1.0],PARAMETER[\"Latitude_Of_Origin\",43.2666666666998],UNIT[\"Foot_US\",0.3048006096012192]],VERTCS[\"NAVD88_height_(ftUS)\",VDATUM[\"North_American_Vertical_Datum_1988\"],PARAMETER[\"Vertical_Shift\",0.0],PARAMETER[\"Direction\",1.0],UNIT[\"Foot_US\",0.3048006096012192]]" }, "resampling": false }